BEGIN:VCALENDAR
VERSION:2.0
PRODID:-//eventon.com NONSGML v1.0//EN
BEGIN:VEVENT
UID:69ecbc8d762c8
DTSTAMP:20260425T100725
DTSTART:20230410T141500Z
DTEND:20230507T235900Z
TZID:America/Sao_Paulo
LOCATION:
SUMMARY:VESTIBULAR CEDERJ 2023.2
DESCRIPTION: Os candidatos já podem fazer a inscrição no Vestibular Cederj 2023.2 e concorrer a 7.589 vagas distribuídas em 16 cursos de graduação\,  ofertados de forma gratuita e na modalidade semipresencial.  O prazo é até 07 de maio\,  exclusivamente pela página www.cecierj.edu.br/consorcio-cederj/vestibular/2023-2/. A taxa é no valor de R$ 89\, 90 e pode[..]\nhttps://www.cecierj.edu.br/eventos/vestibular-cederj-2023-2/
URL:https://www.cecierj.edu.br/eventos/vestibular-cederj-2023-2/
END:VEVENT
END:VCALENDAR