BEGIN:VCALENDAR
VERSION:2.0
PRODID:-//eventon.com NONSGML v1.0//EN
BEGIN:VEVENT
UID:69ecab61a69c2
DTSTAMP:20260425T085409
DTSTART:20240524T164700Z
DTEND:20240623T235900Z
TZID:America/Sao_Paulo
LOCATION:
SUMMARY:SELEÇÃO ABERTA PARA COORDENADORES DE ÁREA PEDAGÓGICA\,  DE DISCIPLINA E COORDENADORES DE TUTORIA
DESCRIPTION: Estão abertas\,  até o dia 23 de junho\,  as inscrições para seleção de coordenadores de área pedagógica\,  de disciplina\,  coordenadores de tutoria e conteudistas que vão atuar no âmbito do Consórcio Cederj. A seleção é realizada pela Fundação Cecierj\,  juntamente com as coordenações dos cursos de graduação no âmbito do[..]\nhttps://www.cecierj.edu.br/eventos/selecao-aberta-para-coordenadores-de-area-pedagogica-de-disciplina-e-coordenadores-de-tutoria/
URL:https://www.cecierj.edu.br/eventos/selecao-aberta-para-coordenadores-de-area-pedagogica-de-disciplina-e-coordenadores-de-tutoria/
END:VEVENT
END:VCALENDAR