BEGIN:VCALENDAR
VERSION:2.0
PRODID:-//eventon.com NONSGML v1.0//EN
BEGIN:VEVENT
UID:69eceeb6b3c77
DTSTAMP:20260425T134126
DTSTART:20250401T113600Z
DTEND:20250413T235900Z
TZID:America/Sao_Paulo
LOCATION:
SUMMARY:Vestibular Cederj 2025.2  pedido de isenção\,  cota e ação afirmativa
DESCRIPTION: Os candidatos que desejam concorrer às vagas do Vestibular Cederj 2025.2 já podem solicitar a isenção do pagamento da taxa de inscrição e fazer a pré-inscrição no sistema de cotas\,  ação afirmativa e reserva de vagas para professor da rede pública. O prazo vai até 13 de abril e deve[..]\nhttps://www.cecierj.edu.br/eventos/vestibular-cederj-2025-2-pedido-de-isencao-cota-e-acao-afirmativa/
URL:https://www.cecierj.edu.br/eventos/vestibular-cederj-2025-2-pedido-de-isencao-cota-e-acao-afirmativa/
END:VEVENT
END:VCALENDAR